BEGIN:VCALENDAR
VERSION:2.0
PRODID:https://github.com/derhansen/sf_event_mgt
METHOD:PUBLISH
BEGIN:VEVENT
UID:51-239@www.energy-net.de
CLASS: PUBLIC
SUMMARY:Securing the Season´s SpirIT
DESCRIPTION:Dieses besondere Event bietet Ihnen nicht nur die Gelegenheit, 
 die neuesten Entwicklungen im Bereich IT-Sicherheit kennenzulernen, sondern
  auch spannende Einblicke in die vielfältigen Einsatzmöglichkeiten von Appl
 e-Geräten im geschäftlichen Umfeld. Als besonderes Highlight erhalten Sie e
 inen exklusiven Tannenbaumgutschein als Belohnung für Ihre fleißige Teilnah
 me an den informativen Vorträgen.
X-ALT-DESC;FMTTYPE=text/html:<!doctype html><html><body><p>Dieses besondere Event bietet Ihnen nicht nur die Gelegenheit, die neuesten Entwicklungen im Bereich IT-Sicherheit kennenzulernen, sondern auch spannende Einblicke in die vielfältigen Einsatzmöglichkeiten von Apple-Geräten im geschäftlichen Umfeld. Als besonderes Highlight erhalten Sie einen exklusiven Tannenbaumgutschein als Belohnung für Ihre fleißige Teilnahme an den informativen Vorträgen.</p></body></html>
LOCATION:Energy Net GmbH
DTSTAMP:20251009T104803Z
DTSTART:20231201T133000Z
DTEND:20231201T210000Z
END:VEVENT
END:VCALENDAR
